BEGIN:VCALENDAR
VERSION:2.0
PRODID:-//Furano Marche - ECPv5.10.1//NONSGML v1.0//EN
CALSCALE:GREGORIAN
METHOD:PUBLISH
X-WR-CALNAME:Furano Marche
X-ORIGINAL-URL:https://marche.furano.jp
X-WR-CALDESC:Furano Marche のイベント
BEGIN:VTIMEZONE
TZID:Asia/Tokyo
BEGIN:STANDARD
TZOFFSETFROM:+0900
TZOFFSETTO:+0900
TZNAME:JST
DTSTART:20230101T000000
END:STANDARD
END:VTIMEZONE
BEGIN:VEVENT
DTSTART;TZID=Asia/Tokyo:20231217T130000
DTEND;TZID=Asia/Tokyo:20231217T140000
DTSTAMP:20260423T030207
CREATED:20231202T071155Z
LAST-MODIFIED:20231202T071658Z
UID:20215-1702818000-1702821600@marche.furano.jp
SUMMARY:【タマリーバ】ふらっと体育教室発表会and体験会
DESCRIPTION:
URL:https://marche.furano.jp/?tribe_events=%e3%80%90%e3%82%bf%e3%83%9e%e3%83%aa%e3%83%bc%e3%83%90%e3%80%91%e3%81%b5%e3%82%89%e3%81%a3%e3%81%a8%e4%bd%93%e8%82%b2%e6%95%99%e5%ae%a4%e7%99%ba%e8%a1%a8%e4%bc%9aand%e4%bd%93%e9%a8%93%e4%bc%9a
LOCATION:タマリーバ\, 幸町８－７ タマリーバ\, 富良野市\, 北海道\, 076-0024\, 日本
CATEGORIES:タマリーバ
END:VEVENT
END:VCALENDAR