BEGIN:VCALENDAR
VERSION:2.0
PRODID:-//Furano Marche - ECPv5.10.1//NONSGML v1.0//EN
CALSCALE:GREGORIAN
METHOD:PUBLISH
X-WR-CALNAME:Furano Marche
X-ORIGINAL-URL:https://marche.furano.jp
X-WR-CALDESC:Furano Marche のイベント
BEGIN:VTIMEZONE
TZID:Asia/Tokyo
BEGIN:STANDARD
TZOFFSETFROM:+0900
TZOFFSETTO:+0900
TZNAME:JST
DTSTART:20230101T000000
END:STANDARD
END:VTIMEZONE
BEGIN:VEVENT
DTSTART;VALUE=DATE:20231209
DTEND;VALUE=DATE:20231226
DTSTAMP:20260423T070706
CREATED:20231208T060134Z
LAST-MODIFIED:20231208T060134Z
UID:20286-1702080000-1703548799@marche.furano.jp
SUMMARY:クリスマスフェア
DESCRIPTION:
URL:https://marche.furano.jp/?tribe_events=%e3%82%af%e3%83%aa%e3%82%b9%e3%83%9e%e3%82%b9%e3%83%95%e3%82%a7%e3%82%a2-2
CATEGORIES:マルシェ
END:VEVENT
END:VCALENDAR