BEGIN:VCALENDAR
VERSION:2.0
PRODID:-//Furano Marche - ECPv5.10.1//NONSGML v1.0//EN
CALSCALE:GREGORIAN
METHOD:PUBLISH
X-WR-CALNAME:Furano Marche
X-ORIGINAL-URL:https://marche.furano.jp
X-WR-CALDESC:Furano Marche のイベント
BEGIN:VTIMEZONE
TZID:Asia/Tokyo
BEGIN:STANDARD
TZOFFSETFROM:+0900
TZOFFSETTO:+0900
TZNAME:JST
DTSTART:20240101T000000
END:STANDARD
END:VTIMEZONE
BEGIN:VEVENT
DTSTART;VALUE=DATE:20240104
DTEND;VALUE=DATE:20240105
DTSTAMP:20260422T211514
CREATED:20231220T075907Z
LAST-MODIFIED:20231220T075947Z
UID:20415-1704326400-1704412799@marche.furano.jp
SUMMARY:短縮営業
DESCRIPTION:10:00～17:30
URL:https://marche.furano.jp/?tribe_events=%e5%88%9d%e5%a3%b2%e3%82%8a-2
CATEGORIES:マルシェ
END:VEVENT
END:VCALENDAR